BEGIN:VCALENDAR
VERSION:2.0
PRODID:-//ChamberMaster//Event Calendar 2.0//EN
METHOD:PUBLISH
X-PUBLISHED-TTL:P3D
REFRESH-INTERVAL:P3D
CALSCALE:GREGORIAN
BEGIN:VEVENT
DTSTART:20150926T203000Z
DTEND:20150926T223000Z
X-MICROSOFT-CDO-ALLDAYEVENT:FALSE
SUMMARY:Seasonality High Tea at the LeDuc Historic Estate
DESCRIPTION:A high tea featuring several varieties of tea\, scones\, fruits\, & tea sandwiches. Includes a guided tour of the LeDuc house. There will be discussion regarding the use of excess fruits of the harvest and how to enjoy this time of plenty in the gardens.
X-ALT-DESC;FMTTYPE=text/html:A high tea featuring several varieties of tea\, scones\, fruits\, &amp\; tea sandwiches. Includes a guided tour of the LeDuc house. There will be discussion regarding the use of excess fruits of the harvest and how to enjoy this time of plenty in the gardens.
LOCATION:LeDuc Historic Estate 1629 Vermillion Street Hastings\, MN 55033
UID:e.606.115980
SEQUENCE:3
DTSTAMP:20260422T104328Z
URL:https://business.hastingsmn.org/events/details/seasonality-high-tea-at-the-leduc-historic-estate-09-26-2015-115980
END:VEVENT

END:VCALENDAR
