BEGIN:VCALENDAR
VERSION:2.0
PRODID:-//ChamberMaster//Event Calendar 2.0//EN
METHOD:PUBLISH
X-PUBLISHED-TTL:P3D
REFRESH-INTERVAL:P3D
CALSCALE:GREGORIAN
BEGIN:VEVENT
DTSTART:20121213T180000Z
DTEND:20121213T193000Z
X-MICROSOFT-CDO-ALLDAYEVENT:FALSE
SUMMARY:Informational Property Tax Luncheon
DESCRIPTION:Proposed property tax hike is hardest on businesses.  Your voice can make a difference!\n	\n		Informational Property Tax Luncheon\n\n		Thursday\, December 13th from 12:00-1:30 pm\n\n		Green Mill Restaurant & Bar\n\n		Cost: $15 for Chamber Members   $25 for Non-Members\n\n		\n\n		 The Hastings City Council is considering a proposed 2% increase in the city's 2013 budget. Because commercial and industrial properties are taxed at a significantly higher rate than residential properties\, businesses will carry a disproportionate share of this burden.\n	\n		Kaye Rakow\, Director of Public Policy at NAIOP\, the Commercial Real Estate Development Association\, has been invited by the Chamber to speak at a luncheon seminar on December 13th from 12:00-1:30 pm at the Green Mill Restaurant & Bar. This is an opportunity for the business community in Hastings to better understand the spending trends\, revenue trends and cost drivers influencing increases in their property taxes.\n	\n		What can you do? Attend the tax luncheon to get the facts.\n	\n		Then attend the December 17th City Council meeting and let the Council know how this proposed tax increase will affect your business. Your voice - and the voice of others - can make a difference as the City of Hastings sets its levy based on the needs and expectations of its citizens.\n	\n		Hastings City Council Meeting\n\n		December 17th at 7:00pm\n\n		Hastings City Hall\n\n		Invite other members of the business community to join you!
X-ALT-DESC;FMTTYPE=text/html:<div style="color: gray">\n	<p align="left">\n		<span style="color: #ff0000"><span style="font-size: 20px"><b><font face="MinionPro-Bold" lang="JA"><font face="MinionPro-Bold" lang="JA">Proposed property tax hike is hardest on businesses.&nbsp\; </font></font></b></span></span><span style="color: #ff0000"><span style="font-size: 18px"><b><i><font face="MinionPro-BoldIt"><font face="MinionPro-BoldIt">Your voice can make a difference!</font></font></i></b></span></span></p>\n	<p align="left">\n		<font face="MinionPro-Regular" size="2"><font face="MinionPro-Regular" size="2"><b><font face="MinionPro-Bold" lang="JA" size="3"><font face="MinionPro-Bold" lang="JA" size="3">Informational Property Tax Luncheon</font></font></b><br />\n		<font face="MinionPro-Semibold" size="2"><font face="MinionPro-Semibold" size="2">Thursday\, December 13th from 12:00-1:30 pm</font></font><br />\n		<font face="MinionPro-Semibold" size="2"><font face="MinionPro-Semibold" size="2">Green Mill Restaurant &amp\; Bar</font></font><br />\n		<font face="MinionPro-Semibold" size="2"><font face="MinionPro-Semibold" size="2">Cost: $15 for Chamber Members </font></font><font face="MyriadPro-Regular" size="2"><font face="MyriadPro-Regular" size="2">&bull\; </font></font><font face="MinionPro-Semibold" size="2"><font face="MinionPro-Semibold" size="2">$25 for Non-Members<br />\n		<br />\n		<span _fck_bookmark="1" style="display: none">&nbsp\;</span></font></font></font></font><font face="MinionPro-Regular" size="2"><font face="MinionPro-Regular" size="2">The Hastings City Council is considering a proposed 2% increase in the city&#39\;s 2013 budget. Because commercial and </font></font><font face="MinionPro-Regular" size="2"><font face="MinionPro-Regular" size="2">industrial properties are taxed at a significantly higher rate </font></font><font face="MinionPro-Regular" size="2"><font face="MinionPro-Regular" size="2">than residential properties\, businesses will carry a disproportionate </font></font><font face="MinionPro-Regular" size="2"><font face="MinionPro-Regular" size="2">share of this burden.</font></font></p>\n	<p align="left">\n		<font face="MinionPro-Regular" size="2"><font face="MinionPro-Regular" size="2">Kaye Rakow\, Director of Public Policy at NAIOP\, the </font></font><font face="MinionPro-Regular" size="2"><font face="MinionPro-Regular" size="2">Commercial Real Estate Development Association\, has been </font></font><font face="MinionPro-Regular" size="2"><font face="MinionPro-Regular" size="2">invited by the Chamber to speak at a luncheon seminar on </font></font><font face="MinionPro-Regular" size="2"><font face="MinionPro-Regular" size="2">December 13th from 12:00-1:30 pm at the Green Mill Restaurant </font></font><font face="MinionPro-Regular" size="2"><font face="MinionPro-Regular" size="2">&amp\; Bar. This is an opportunity for the business community in </font></font><font face="MinionPro-Regular" size="2"><font face="MinionPro-Regular" size="2">Hastings to better understand the spending trends\, revenue </font></font><font face="MinionPro-Regular" size="2"><font face="MinionPro-Regular" size="2">trends and cost drivers influencing increases in their property </font></font><font face="MinionPro-Regular" size="2"><font face="MinionPro-Regular" size="2">taxes.</font></font></p>\n	<p align="left">\n		<b><font face="MinionPro-Bold" lang="JA" size="2"><font face="MinionPro-Bold" lang="JA" size="2">What can you do? </font></font></b><font face="MinionPro-Regular" size="2"><font face="MinionPro-Regular" size="2">Attend the tax luncheon to get the facts.</font></font></p>\n	<p align="left">\n		<font face="MinionPro-Regular" size="2"><font face="MinionPro-Regular" size="2">Then attend the December 17th City Council meeting and </font></font><font face="MinionPro-Regular" size="2"><font face="MinionPro-Regular" size="2">let the Council know how this proposed tax increase will affect </font></font><font face="MinionPro-Regular" size="2"><font face="MinionPro-Regular" size="2">your business. Your voice - and the voice of others - can </font></font><font face="MinionPro-Regular" size="2"><font face="MinionPro-Regular" size="2">make a difference as the City of Hastings sets its levy based on </font></font><font face="MinionPro-Regular" size="2"><font face="MinionPro-Regular" size="2">the needs and expectations of its citizens.</font></font></p>\n	<p align="left">\n		<b><font face="MinionPro-Bold" lang="JA" size="3"><font face="MinionPro-Bold" lang="JA" size="3">Hastings City Council Meeting</font></font></b><br />\n		<font face="MinionPro-Semibold" size="2"><font face="MinionPro-Semibold" size="2">December 17th at 7:00pm</font></font><br />\n		<font face="MinionPro-Semibold" size="2"><font face="MinionPro-Semibold" size="2">Hastings City Hall</font></font><br />\n		<i><font face="MinionPro-It" size="2"><font face="MinionPro-It" size="2">Invite other members of the business community to join you!</font></font></i></p>\n</div>\n
LOCATION:Green Mill Restaurant & Bar 909 Vermillion St Hastings\, MN Please RSVP 651.437.6775
UID:e.606.113756
SEQUENCE:3
DTSTAMP:20260426T010833Z
URL:https://business.hastingsmn.org/events/details/informational-property-tax-luncheon-12-13-2012-113756
END:VEVENT

END:VCALENDAR
