BEGIN:VCALENDAR
VERSION:2.0
PRODID:-//ChamberMaster//Event Calendar 2.0//EN
METHOD:PUBLISH
X-PUBLISHED-TTL:P3D
REFRESH-INTERVAL:P3D
CALSCALE:GREGORIAN
BEGIN:VEVENT
DTSTART:20130307T133000Z
DTEND:20130307T143000Z
X-MICROSOFT-CDO-ALLDAYEVENT:FALSE
SUMMARY:Hastings State of the City Address
DESCRIPTION:Chamber Members Invited to\n\n		Hastings State of the City Address \n	\n		Thursday\, March 7 at 7:30 AM\n\n		Hastings City Hall Community Room\n	\n		 \n	\n		Mayor Paul Hicks will be giving a State of the City address at City Hall.  Coffee and rolls will be provided.  There is no charge to attend\, but reservations are requested.  Please call the Chamber office at 437.6775 if you would like to attend. \n	\n		Sponsored by Dakota Electric Association
X-ALT-DESC;FMTTYPE=text/html:<div style="color: gray">\n	<p style="margin-top: 0px\; font-family: Arial\, Helvetica\, sans-serif\; margin-bottom: 0px\; color: #7e534b\; font-size: 14pt\; font-weight: bold">\n		<span style="font-size: 11pt"><span style="font-family: Arial\, Helvetica\, sans-serif\; color: #7e534b\; font-size: 14pt\; font-weight: bold">Chamber Members Invited to<br />\n		Hastings State of the City Address</span><strong>&nbsp\;</strong></span></p>\n	<p style="margin-top: 0px\; margin-bottom: 0px">\n		<span style="color: #2b6aa9"><strong>Thursday\, March 7&nbsp\;at 7:30 AM<br />\n		Hastings City Hall Community Room</strong></span></p>\n	<p style="margin-top: 0px\; margin-bottom: 0px">\n		<span style="color: #2b6aa9">&nbsp\;</span></p>\n	<p style="margin-top: 0px\; margin-bottom: 0px">\n		Mayor Paul Hicks will be giving a State of the City address at City Hall.&nbsp\; Coffee and rolls will be provided.&nbsp\; There is no charge to attend\, but <strong>reservations are requested.</strong>&nbsp\; Please call the Chamber office&nbsp\;at 437.6775&nbsp\;if you would like to attend.&nbsp\;</p>\n	<p align="left" style="text-align: left\; margin-top: 0px\; margin-bottom: 0px">\n		<span style="color: #2b6aa9"><strong><em>Sponsored by Dakota Electric Association</em></strong></span></p>\n</div>\n
LOCATION:Hastings City Hall Community Room
UID:e.606.113789
SEQUENCE:3
DTSTAMP:20260425T204838Z
URL:https://business.hastingsmn.org/events/details/hastings-state-of-the-city-address-03-07-2013-113789
END:VEVENT

END:VCALENDAR
