BEGIN:VCALENDAR
VERSION:2.0
PRODID:-//ChamberMaster//Event Calendar 2.0//EN
METHOD:PUBLISH
X-PUBLISHED-TTL:P3D
REFRESH-INTERVAL:P3D
CALSCALE:GREGORIAN
BEGIN:VEVENT
DTSTART:20130130T000000Z
DTEND:20130130T030000Z
X-MICROSOFT-CDO-ALLDAYEVENT:FALSE
SUMMARY:Hastings Chamber of Commerce Annual Awards Dinner
DESCRIPTION:Please join the Hastings Area Chamber of Commerce & Tourism Bureau for our Annual Awards Dinner.  Awards will be presented to Business of the Year\, Volunteer of the Year\, Educator of the Year and Spirit of Hastings.  Nomination forms may be downloaded from the Chamber's website www.HastingsMN.org (on the bottom left) and must be received at the Chamber office no later than December 11th\, 2012 at 4:00 pm.  Nominations may also be submitted by fax 651.437.2697 or mailed to 111 Third Street\, Hastings\, MN 55033.\n\n	\n\n	Sponsorship Levels\n\n	  $250 Two Dinner Tickets **\n\n	  $500 Four Dinner Tickets **\n\n	  $1\,000 Reserved Table & Dinner Tickets for Eight\n\n	\n\n	**If you are not reserving a full table\, please specify if there are other attendees that you would like to have seated with you.\n\n	\n\n	~ All sponsors will be included in the program and in the January newsletter.\n\n	~ All $1\,000 sponsorships received by December 14th will also have their logo included on the invitation.\n\n	~ If you are interested in being a sponsor\, please contact the Chamber staff at 651.437.6775.
X-ALT-DESC;FMTTYPE=text/html:<p>\n	Please join the Hastings Area Chamber of Commerce &amp\; Tourism Bureau for&nbsp\;our Annual Awards Dinner.&nbsp\; Awards will be presented to Business of the Year\, Volunteer of the Year\,&nbsp\;Educator of the Year and Spirit of Hastings.&nbsp\; Nomination forms may be downloaded from the Chamber&#39\;s website www.HastingsMN.org (on the bottom left) and must be received at the Chamber office <strong>no later than December 11th\, 2012 at 4:00 pm</strong>.&nbsp\; Nominations may also be submitted by fax 651.437.2697 or mailed to 111 Third Street\, Hastings\, MN 55033.<br />\n	<br />\n	Sponsorship Levels<br />\n	&nbsp\; $250 Two Dinner Tickets **<br />\n	&nbsp\; $500 Four Dinner Tickets **<br />\n	&nbsp\; $1\,000 Reserved Table &amp\; Dinner Tickets for Eight<br />\n	<br />\n	**If you are not reserving a full table\, please specify if there are other attendees that you would like to have seated with you.<br />\n	<br />\n	~ All sponsors will be included in the program and in the January newsletter.<br />\n	~ All $1\,000 sponsorships received by December 14th will also have their logo included on the invitation.<br />\n	~ If you are interested in being a sponsor\, please contact the Chamber staff at 651.437.6775.<br />\n	<br />\n	&nbsp\;</p>\n
LOCATION:Hastings Country Club 2015 Westview Drive Hastings\, MN
UID:e.606.113715
SEQUENCE:3
DTSTAMP:20260425T234909Z
URL:https://business.hastingsmn.org/events/details/hastings-chamber-of-commerce-annual-awards-dinner-01-29-2013-113715
END:VEVENT

END:VCALENDAR
