BEGIN:VCALENDAR
VERSION:2.0
PRODID:-//ChamberMaster//Event Calendar 2.0//EN
METHOD:PUBLISH
X-PUBLISHED-TTL:P3D
REFRESH-INTERVAL:P3D
CALSCALE:GREGORIAN
BEGIN:VEVENT
DTSTART:20121128T223000Z
DTEND:20121129T003000Z
X-MICROSOFT-CDO-ALLDAYEVENT:FALSE
SUMMARY:Hastings Area Chamber of Commerce Member Holiday Party
DESCRIPTION:The Hastings Area Chamber of Commerce invites our Chamber Members and their guests to our Holiday Party and Wreath Auction.  This event is hosted by our Chamber Ambassadors.\n\n\n\nHors d'oeuvres will be provided by Green Mill\, with a cash bar.  Come and go as your schedule allows.\n\n\n\nTo add to the festivities\, we will be holding a wreath auction with the proceeds going to fund the Chamber's Strategic Plan.
X-ALT-DESC;FMTTYPE=text/html:The Hastings Area Chamber of Commerce invites&nbsp\;our Chamber Members and their guests to our Holiday Party and Wreath Auction.&nbsp\; This event is hosted by our Chamber Ambassadors.<br />\n<br />\n<span style="font-size: small"><span style="font-family: arial">Hors d&#39\;oeuvres will be provided by Green Mill\, with a cash bar.&nbsp\; </span></span><span style="font-size: small"><span style="font-family: arial"><span style="font-size: 10pt"><span style="font-family: arial">Come and go as your schedule allows.</span></span></span></span><br />\n<br />\n<span style="font-size: small"><span style="font-family: arial"><span style="font-size: 10pt"><span style="font-family: arial">To add to the festivities\, we will be holding a wreath auction with the proceeds going to fund the Chamber&rsquo\;s Strategic Plan.&nbsp\;&nbsp\;&nbsp\;</span></span></span></span><br />\n<span _fck_bookmark="1" style="display: none">&nbsp\;</span>
LOCATION:Green Mill Restaurant 909 Vermillion Street Hastings
UID:e.606.113751
SEQUENCE:3
DTSTAMP:20260426T024802Z
URL:https://business.hastingsmn.org/events/details/hastings-area-chamber-of-commerce-member-holiday-party-11-28-2012-113751
END:VEVENT

END:VCALENDAR
