BEGIN:VCALENDAR
VERSION:2.0
PRODID:-//ChamberMaster//Event Calendar 2.0//EN
METHOD:PUBLISH
X-PUBLISHED-TTL:P3D
REFRESH-INTERVAL:P3D
CALSCALE:GREGORIAN
BEGIN:VEVENT
DTSTART:20140827T160000Z
DTEND:20140827T190000Z
X-MICROSOFT-CDO-ALLDAYEVENT:FALSE
SUMMARY:Back to School BBQ at Sprint!
DESCRIPTION:Come to Mobile-Link Wireless of Hastings\, your local Sprint store\, and get some lunch from the grill and play a game or two!  We will be WAIVING ACTIVATION fees on new lines and 20% off accessories all day!  The BBQ is from 11:00 a.m. -2:00 p.m.
X-ALT-DESC;FMTTYPE=text/html:Come to Mobile-Link Wireless of Hastings\, your local Sprint store\, and get some lunch from the grill and play a game or two! &nbsp\;We will be WAIVING ACTIVATION fees on new lines and 20% off accessories all day! &nbsp\;The BBQ is from 11:00 a.m. -2:00 p.m.
LOCATION:Mobile-Link Wireless of Hastings The Sprint Store! 300 Vermillion Street Hastings\, MN 55033
UID:e.606.114140
SEQUENCE:3
DTSTAMP:20260423T071444Z
URL:https://business.hastingsmn.org/events/details/back-to-school-bbq-at-sprint-08-27-2014-114140
END:VEVENT

END:VCALENDAR
